BEGIN:VCALENDAR
VERSION:2.0
PRODID:-//Splinters&#039; Hatchet &amp; Axe Throwing - ECPv6.15.20//NONSGML v1.0//EN
CALSCALE:GREGORIAN
METHOD:PUBLISH
X-WR-CALNAME:Splinters&#039; Hatchet &amp; Axe Throwing
X-ORIGINAL-URL:https://splinters-hatchetaxethrowing.com
X-WR-CALDESC:Events for Splinters&#039; Hatchet &amp; Axe Throwing
REFRESH-INTERVAL;VALUE=DURATION:PT1H
X-Robots-Tag:noindex
X-PUBLISHED-TTL:PT1H
BEGIN:VTIMEZONE
TZID:America/New_York
BEGIN:DAYLIGHT
TZOFFSETFROM:-0500
TZOFFSETTO:-0400
TZNAME:EDT
DTSTART:20240310T070000
END:DAYLIGHT
BEGIN:STANDARD
TZOFFSETFROM:-0400
TZOFFSETTO:-0500
TZNAME:EST
DTSTART:20241103T060000
END:STANDARD
BEGIN:DAYLIGHT
TZOFFSETFROM:-0500
TZOFFSETTO:-0400
TZNAME:EDT
DTSTART:20250309T070000
END:DAYLIGHT
BEGIN:STANDARD
TZOFFSETFROM:-0400
TZOFFSETTO:-0500
TZNAME:EST
DTSTART:20251102T060000
END:STANDARD
BEGIN:DAYLIGHT
TZOFFSETFROM:-0500
TZOFFSETTO:-0400
TZNAME:EDT
DTSTART:20260308T070000
END:DAYLIGHT
BEGIN:STANDARD
TZOFFSETFROM:-0400
TZOFFSETTO:-0500
TZNAME:EST
DTSTART:20261101T060000
END:STANDARD
END:VTIMEZONE
BEGIN:VEVENT
DTSTART;TZID=America/New_York:20250927T140000
DTEND;TZID=America/New_York:20250927T180000
DTSTAMP:20260424T144232
CREATED:20250730T130707Z
LAST-MODIFIED:20250814T143506Z
UID:10000746-1758981600-1758996000@splinters-hatchetaxethrowing.com
SUMMARY:Barley Creek Brewing Company - Octoberfest
DESCRIPTION:
URL:https://splinters-hatchetaxethrowing.com/event/barley-creek-brewing-company-octoberfest/
LOCATION:Barley Creek Brewing Company\, 1774 Sullivan Trail\, Tannersville\, PA\, 18372\, United States
CATEGORIES:Festival,Public
ORGANIZER;CN="Barley Creek Brewing Company":MAILTO:brewpub@barleycreek.com
END:VEVENT
END:VCALENDAR